Package: LPE Version: 1.72.0 Command: /home/biocbuild/bbs-3.16-bioc/R/bin/R CMD check --install=check:LPE.install-out.txt --library=/home/biocbuild/bbs-3.16-bioc/R/site-library --timings LPE_1.72.0.tar.gz StartedAt: 2023-04-10 21:38:10 -0400 (Mon, 10 Apr 2023) EndedAt: 2023-04-10 21:38:36 -0400 (Mon, 10 Apr 2023) EllapsedTime: 25.3 seconds RetCode: 0 Status: OK CheckDir: LPE.Rcheck Warnings: 0