Package: KinSwingR Version: 1.16.0 Command: /Library/Frameworks/R.framework/Resources/bin/R CMD build --keep-empty-dirs --no-resave-data KinSwingR StartedAt: 2023-04-10 16:56:54 -0400 (Mon, 10 Apr 2023) EndedAt: 2023-04-10 16:57:24 -0400 (Mon, 10 Apr 2023) EllapsedTime: 30.5 seconds RetCode: 0 Status: OK PackageFile: KinSwingR_1.16.0.tar.gz PackageFileSize: 552.6 KiB