Package: KinSwingR Version: 1.16.0 Command: rm -rf KinSwingR.buildbin-libdir && mkdir KinSwingR.buildbin-libdir && /Users/biocbuild/BBS/utils/build-universal.sh KinSwingR_1.16.0.tar.gz /Library/Frameworks/R.framework/Resources/bin/R KinSwingR.buildbin-libdir StartedAt: 2023-04-10 23:49:18 -0400 (Mon, 10 Apr 2023) EndedAt: 2023-04-10 23:49:26 -0400 (Mon, 10 Apr 2023) EllapsedTime: 7.9 seconds RetCode: 0 Status: OK PackageFile: KinSwingR_1.16.0.tgz PackageFileSize: 608.2 KiB