Package: ImmuneSpaceR Version: 1.26.1 Command: F:\biocbuild\bbs-3.16-bioc\R\bin\R.exe CMD INSTALL ImmuneSpaceR StartedAt: 2023-04-10 15:59:57 -0400 (Mon, 10 Apr 2023) EndedAt: 2023-04-10 16:00:16 -0400 (Mon, 10 Apr 2023) EllapsedTime: 19.0 seconds RetCode: 0 Status: OK