Package: ImmuneSpaceR Version: 1.26.1 Command: F:\biocbuild\bbs-3.16-bioc\R\bin\R.exe CMD check --no-multiarch --install=check:ImmuneSpaceR.install-out.txt --library=F:\biocbuild\bbs-3.16-bioc\R\library --no-vignettes --timings ImmuneSpaceR_1.26.1.tar.gz StartedAt: 2023-04-11 02:28:54 -0400 (Tue, 11 Apr 2023) EndedAt: 2023-04-11 02:30:33 -0400 (Tue, 11 Apr 2023) EllapsedTime: 98.9 seconds RetCode: 0 Status: OK CheckDir: ImmuneSpaceR.Rcheck Warnings: 0