Package: ImmuneSpaceR Version: 1.26.1 Command: chmod a+r ImmuneSpaceR -R && F:\biocbuild\bbs-3.16-bioc\R\bin\R.exe CMD build --keep-empty-dirs --no-resave-data ImmuneSpaceR StartedAt: 2023-04-10 19:19:45 -0400 (Mon, 10 Apr 2023) EndedAt: 2023-04-10 19:22:03 -0400 (Mon, 10 Apr 2023) EllapsedTime: 137.5 seconds RetCode: 0 Status: OK PackageFile: ImmuneSpaceR_1.26.1.tar.gz PackageFileSize: 1014 KiB