Package: ImmuneSpaceR Version: 1.26.1 Command: rm -rf ImmuneSpaceR.buildbin-libdir && mkdir ImmuneSpaceR.buildbin-libdir && F:\biocbuild\bbs-3.16-bioc\R\bin\R.exe CMD INSTALL --build --library=ImmuneSpaceR.buildbin-libdir ImmuneSpaceR_1.26.1.tar.gz StartedAt: 2023-04-11 08:09:59 -0400 (Tue, 11 Apr 2023) EndedAt: 2023-04-11 08:10:21 -0400 (Tue, 11 Apr 2023) EllapsedTime: 21.7 seconds RetCode: 0 Status: OK PackageFile: ImmuneSpaceR_1.26.1.zip PackageFileSize: 787.6 KiB