Package: ImmuneSpaceR Version: 1.26.1 Command: /Library/Frameworks/R.framework/Resources/bin/R CMD INSTALL ImmuneSpaceR StartedAt: 2023-04-10 15:18:39 -0400 (Mon, 10 Apr 2023) EndedAt: 2023-04-10 15:18:56 -0400 (Mon, 10 Apr 2023) EllapsedTime: 17.8 seconds RetCode: 0 Status: OK