Package: ImmuneSpaceR Version: 1.26.1 Command: /Library/Frameworks/R.framework/Resources/bin/R CMD build --keep-empty-dirs --no-resave-data ImmuneSpaceR StartedAt: 2023-04-10 16:52:24 -0400 (Mon, 10 Apr 2023) EndedAt: 2023-04-10 16:55:06 -0400 (Mon, 10 Apr 2023) EllapsedTime: 162.3 seconds RetCode: 0 Status: OK PackageFile: ImmuneSpaceR_1.26.1.tar.gz PackageFileSize: 1.399 MiB