Package: IdeoViz Version: 1.34.0 Command: /home/biocbuild/bbs-3.16-bioc/R/bin/R CMD build --keep-empty-dirs --no-resave-data IdeoViz StartedAt: 2023-04-10 17:01:27 -0400 (Mon, 10 Apr 2023) EndedAt: 2023-04-10 17:02:42 -0400 (Mon, 10 Apr 2023) EllapsedTime: 75.5 seconds RetCode: 0 Status: OK PackageFile: IdeoViz_1.34.0.tar.gz PackageFileSize: 923.4 KiB