Package: IWTomics Version: 1.22.0 Command: rm -rf IWTomics.buildbin-libdir && mkdir IWTomics.buildbin-libdir && F:\biocbuild\bbs-3.16-bioc\R\bin\R.exe CMD INSTALL --build --library=IWTomics.buildbin-libdir IWTomics_1.22.0.tar.gz StartedAt: 2023-04-11 08:12:26 -0400 (Tue, 11 Apr 2023) EndedAt: 2023-04-11 08:13:03 -0400 (Tue, 11 Apr 2023) EllapsedTime: 37.0 seconds RetCode: 0 Status: OK PackageFile: IWTomics_1.22.0.zip PackageFileSize: 1.623 MiB