Package: ISoLDE Version: 1.26.0 Command: F:\biocbuild\bbs-3.16-bioc\R\bin\R.exe CMD check --no-multiarch --install=check:ISoLDE.install-out.txt --library=F:\biocbuild\bbs-3.16-bioc\R\library --no-vignettes --timings ISoLDE_1.26.0.tar.gz StartedAt: 2023-04-11 02:38:44 -0400 (Tue, 11 Apr 2023) EndedAt: 2023-04-11 02:40:05 -0400 (Tue, 11 Apr 2023) EllapsedTime: 81.1 seconds RetCode: 0 Status: WARNINGS CheckDir: ISoLDE.Rcheck Warnings: 1