Package: ISoLDE Version: 1.26.0 Command: rm -rf ISoLDE.buildbin-libdir && mkdir ISoLDE.buildbin-libdir && F:\biocbuild\bbs-3.16-bioc\R\bin\R.exe CMD INSTALL --build --library=ISoLDE.buildbin-libdir ISoLDE_1.26.0.tar.gz StartedAt: 2023-04-11 08:12:05 -0400 (Tue, 11 Apr 2023) EndedAt: 2023-04-11 08:12:26 -0400 (Tue, 11 Apr 2023) EllapsedTime: 20.6 seconds RetCode: 0 Status: OK PackageFile: ISoLDE_1.26.0.zip PackageFileSize: 1.325 MiB