Package: ISoLDE Version: 1.25.0 Command: /Library/Frameworks/R.framework/Resources/bin/R CMD INSTALL ISoLDE StartedAt: 2022-07-10 15:09:31 -0400 (Sun, 10 Jul 2022) EndedAt: 2022-07-10 15:09:37 -0400 (Sun, 10 Jul 2022) EllapsedTime: 5.8 seconds RetCode: 0 Status: OK