Package: IRanges Version: 2.32.0 Command: /home/biocbuild/bbs-3.16-bioc/R/bin/R CMD build --keep-empty-dirs --no-resave-data IRanges StartedAt: 2023-04-10 17:04:31 -0400 (Mon, 10 Apr 2023) EndedAt: 2023-04-10 17:05:40 -0400 (Mon, 10 Apr 2023) EllapsedTime: 69.6 seconds RetCode: 0 Status: OK PackageFile: IRanges_2.32.0.tar.gz PackageFileSize: 445.5 KiB