Package: INSPEcT Version: 1.28.0 Command: rm -rf INSPEcT.buildbin-libdir && mkdir INSPEcT.buildbin-libdir && F:\biocbuild\bbs-3.16-bioc\R\bin\R.exe CMD INSTALL --build --library=INSPEcT.buildbin-libdir INSPEcT_1.28.0.tar.gz StartedAt: 2023-04-11 08:10:21 -0400 (Tue, 11 Apr 2023) EndedAt: 2023-04-11 08:12:29 -0400 (Tue, 11 Apr 2023) EllapsedTime: 128.7 seconds RetCode: 0 Status: OK PackageFile: INSPEcT_1.28.0.zip PackageFileSize: 8.006 MiB