Package: HybridMTest Version: 1.42.0 Command: chmod a+r HybridMTest -R && F:\biocbuild\bbs-3.16-bioc\R\bin\R.exe CMD build --keep-empty-dirs --no-resave-data HybridMTest StartedAt: 2023-04-10 19:16:37 -0400 (Mon, 10 Apr 2023) EndedAt: 2023-04-10 19:16:54 -0400 (Mon, 10 Apr 2023) EllapsedTime: 16.5 seconds RetCode: 0 Status: OK PackageFile: HybridMTest_1.42.0.tar.gz PackageFileSize: 172.3 KiB