Package: HiContacts Version: 1.0.0 Command: /Library/Frameworks/R.framework/Resources/bin/R CMD check --install=check:HiContacts.install-out.txt --library=/Library/Frameworks/R.framework/Resources/library --no-vignettes --timings HiContacts_1.0.0.tar.gz StartedAt: 2023-04-10 20:39:08 -0400 (Mon, 10 Apr 2023) EndedAt: 2023-04-10 20:48:28 -0400 (Mon, 10 Apr 2023) EllapsedTime: 559.6 seconds RetCode: 0 Status: OK CheckDir: HiContacts.Rcheck Warnings: 0