Package: HiContacts Version: 1.0.0 Command: rm -rf HiContacts.buildbin-libdir && mkdir HiContacts.buildbin-libdir && /Users/biocbuild/BBS/utils/build-universal.sh HiContacts_1.0.0.tar.gz /Library/Frameworks/R.framework/Resources/bin/R HiContacts.buildbin-libdir StartedAt: 2023-04-10 23:47:21 -0400 (Mon, 10 Apr 2023) EndedAt: 2023-04-10 23:48:31 -0400 (Mon, 10 Apr 2023) EllapsedTime: 70.0 seconds RetCode: 0 Status: OK PackageFile: HiContacts_1.0.0.tgz PackageFileSize: 3.433 MiB