Package: HTqPCR Version: 1.52.0 Command: /home/biocbuild/bbs-3.16-bioc/R/bin/R CMD check --install=check:HTqPCR.install-out.txt --library=/home/biocbuild/bbs-3.16-bioc/R/site-library --timings HTqPCR_1.52.0.tar.gz StartedAt: 2023-04-10 21:19:25 -0400 (Mon, 10 Apr 2023) EndedAt: 2023-04-10 21:20:29 -0400 (Mon, 10 Apr 2023) EllapsedTime: 64.3 seconds RetCode: 0 Status: OK CheckDir: HTqPCR.Rcheck Warnings: 0