Package: HTSeqGenie Version: 4.28.1 Command: /home/biocbuild/bbs-3.16-bioc/R/bin/R CMD INSTALL HTSeqGenie StartedAt: 2023-04-10 15:51:04 -0400 (Mon, 10 Apr 2023) EndedAt: 2023-04-10 15:52:09 -0400 (Mon, 10 Apr 2023) EllapsedTime: 64.6 seconds RetCode: 0 Status: OK