Package: HTSeqGenie Version: 4.28.1 Command: /home/biocbuild/bbs-3.16-bioc/R/bin/R CMD build --keep-empty-dirs --no-resave-data HTSeqGenie StartedAt: 2023-04-10 17:00:34 -0400 (Mon, 10 Apr 2023) EndedAt: 2023-04-10 17:03:15 -0400 (Mon, 10 Apr 2023) EllapsedTime: 160.9 seconds RetCode: 0 Status: OK PackageFile: HTSeqGenie_4.28.1.tar.gz PackageFileSize: 2.884 MiB