Package: HEM Version: 1.70.0 Command: rm -rf HEM.buildbin-libdir && mkdir HEM.buildbin-libdir && /Users/biocbuild/BBS/utils/build-universal.sh HEM_1.70.0.tar.gz /Library/Frameworks/R.framework/Resources/bin/R HEM.buildbin-libdir StartedAt: 2023-04-10 23:47:13 -0400 (Mon, 10 Apr 2023) EndedAt: 2023-04-10 23:47:21 -0400 (Mon, 10 Apr 2023) EllapsedTime: 7.9 seconds RetCode: 0 Status: OK PackageFile: HEM_1.70.0.tgz PackageFileSize: 716.5 KiB