Package: GraphPAC Version: 1.40.0 Command: rm -rf GraphPAC.buildbin-libdir && mkdir GraphPAC.buildbin-libdir && /Users/biocbuild/BBS/utils/build-universal.sh GraphPAC_1.40.0.tar.gz /Library/Frameworks/R.framework/Resources/bin/R GraphPAC.buildbin-libdir StartedAt: 2023-04-10 23:46:35 -0400 (Mon, 10 Apr 2023) EndedAt: 2023-04-10 23:46:57 -0400 (Mon, 10 Apr 2023) EllapsedTime: 21.7 seconds RetCode: 0 Status: OK PackageFile: GraphPAC_1.40.0.tgz PackageFileSize: 520.6 KiB