Package: GraphPAC Version: 1.39.0 Command: rm -rf GraphPAC.buildbin-libdir && mkdir GraphPAC.buildbin-libdir && /Users/biocbuild/BBS/utils/build-universal.sh GraphPAC_1.39.0.tar.gz /Library/Frameworks/R.framework/Resources/bin/R GraphPAC.buildbin-libdir StartedAt: 2022-07-07 08:08:42 -0400 (Thu, 07 Jul 2022) EndedAt: 2022-07-07 08:09:16 -0400 (Thu, 07 Jul 2022) EllapsedTime: 33.6 seconds RetCode: 0 Status: OK PackageFile: GraphPAC_1.39.0.tgz PackageFileSize: 520.3 KiB