Package: GeoDiff Version: 1.4.2 Command: /Library/Frameworks/R.framework/Resources/bin/R CMD INSTALL GeoDiff StartedAt: 2023-04-10 15:19:49 -0400 (Mon, 10 Apr 2023) EndedAt: 2023-04-10 15:21:45 -0400 (Mon, 10 Apr 2023) EllapsedTime: 116.1 seconds RetCode: 0 Status: OK