Package: GeoDiff Version: 1.3.0 Command: /Library/Frameworks/R.framework/Resources/bin/R CMD INSTALL GeoDiff StartedAt: 2022-07-10 18:03:23 -0400 (Sun, 10 Jul 2022) EndedAt: 2022-07-10 18:07:47 -0400 (Sun, 10 Jul 2022) EllapsedTime: 263.9 seconds RetCode: 0 Status: OK