Package: GenomeInfoDb Version: 1.34.9 Command: /home/biocbuild/bbs-3.16-bioc/R/bin/R CMD build --keep-empty-dirs --no-resave-data GenomeInfoDb StartedAt: 2023-04-10 16:50:22 -0400 (Mon, 10 Apr 2023) EndedAt: 2023-04-10 16:50:50 -0400 (Mon, 10 Apr 2023) EllapsedTime: 27.8 seconds RetCode: 0 Status: OK PackageFile: GenomeInfoDb_1.34.9.tar.gz PackageFileSize: 3.313 MiB