Package: GeneticsPed Version: 1.60.3 Command: /Library/Frameworks/R.framework/Resources/bin/R CMD build --keep-empty-dirs --no-resave-data GeneticsPed StartedAt: 2023-04-10 16:39:11 -0400 (Mon, 10 Apr 2023) EndedAt: 2023-04-10 16:39:50 -0400 (Mon, 10 Apr 2023) EllapsedTime: 39.3 seconds RetCode: 0 Status: OK PackageFile: GeneticsPed_1.60.3.tar.gz PackageFileSize: 670 KiB