Package: GeneMeta Version: 1.69.0 Command: /Library/Frameworks/R.framework/Resources/bin/R CMD INSTALL GeneMeta StartedAt: 2022-07-10 16:36:07 -0400 (Sun, 10 Jul 2022) EndedAt: 2022-07-10 16:36:47 -0400 (Sun, 10 Jul 2022) EllapsedTime: 40.4 seconds RetCode: 0 Status: OK