Package: GSVA Version: 1.46.0 Command: /home/biocbuild/bbs-3.16-bioc/R/bin/R CMD check --install=check:GSVA.install-out.txt --library=/home/biocbuild/bbs-3.16-bioc/R/site-library --timings GSVA_1.46.0.tar.gz StartedAt: 2023-04-10 21:10:13 -0400 (Mon, 10 Apr 2023) EndedAt: 2023-04-10 21:17:51 -0400 (Mon, 10 Apr 2023) EllapsedTime: 457.3 seconds RetCode: 0 Status: OK CheckDir: GSVA.Rcheck Warnings: 0