Package: GSEAlm Version: 1.57.0 Command: /Library/Frameworks/R.framework/Resources/bin/R CMD build --keep-empty-dirs --no-resave-data GSEAlm StartedAt: 2022-07-06 22:20:13 -0400 (Wed, 06 Jul 2022) EndedAt: 2022-07-06 22:20:23 -0400 (Wed, 06 Jul 2022) EllapsedTime: 9.8 seconds RetCode: 1 Status: ERROR PackageFile: None PackageFileSize: NA