Package: GOpro Version: 1.24.0 Command: /Library/Frameworks/R.framework/Resources/bin/R CMD check --install=check:GOpro.install-out.txt --library=/Library/Frameworks/R.framework/Resources/library --no-vignettes --timings GOpro_1.24.0.tar.gz StartedAt: 2023-04-10 20:29:56 -0400 (Mon, 10 Apr 2023) EndedAt: 2023-04-10 20:32:58 -0400 (Mon, 10 Apr 2023) EllapsedTime: 181.9 seconds RetCode: 0 Status: OK CheckDir: GOpro.Rcheck Warnings: 0