Package: GOpro Version: 1.23.0 Command: /Library/Frameworks/R.framework/Resources/bin/R CMD build --keep-empty-dirs --no-resave-data GOpro StartedAt: 2022-07-06 22:06:47 -0400 (Wed, 06 Jul 2022) EndedAt: 2022-07-06 22:07:58 -0400 (Wed, 06 Jul 2022) EllapsedTime: 71.2 seconds RetCode: 0 Status: OK PackageFile: GOpro_1.23.0.tar.gz PackageFileSize: 979.4 KiB