Package: GLAD Version: 2.62.0 Command: chmod a+r GLAD -R && F:\biocbuild\bbs-3.16-bioc\R\bin\R.exe CMD build --keep-empty-dirs --no-resave-data GLAD StartedAt: 2023-04-10 19:00:32 -0400 (Mon, 10 Apr 2023) EndedAt: 2023-04-10 19:01:01 -0400 (Mon, 10 Apr 2023) EllapsedTime: 29.0 seconds RetCode: 0 Status: OK PackageFile: GLAD_2.62.0.tar.gz PackageFileSize: 1.177 MiB