Package: GLAD Version: 2.62.0 Command: rm -rf GLAD.buildbin-libdir && mkdir GLAD.buildbin-libdir && /Users/biocbuild/BBS/utils/build-universal.sh GLAD_2.62.0.tar.gz /Library/Frameworks/R.framework/Resources/bin/R GLAD.buildbin-libdir StartedAt: 2023-04-10 23:45:59 -0400 (Mon, 10 Apr 2023) EndedAt: 2023-04-10 23:46:23 -0400 (Mon, 10 Apr 2023) EllapsedTime: 23.7 seconds RetCode: 0 Status: OK PackageFile: GLAD_2.62.0.tgz PackageFileSize: 1.454 MiB