Package: GEOfastq Version: 1.6.0 Command: rm -rf GEOfastq.buildbin-libdir && mkdir GEOfastq.buildbin-libdir && /Users/biocbuild/BBS/utils/build-universal.sh GEOfastq_1.6.0.tar.gz /Library/Frameworks/R.framework/Resources/bin/R GEOfastq.buildbin-libdir StartedAt: 2023-04-10 23:45:30 -0400 (Mon, 10 Apr 2023) EndedAt: 2023-04-10 23:45:33 -0400 (Mon, 10 Apr 2023) EllapsedTime: 3.4 seconds RetCode: 0 Status: OK PackageFile: GEOfastq_1.6.0.tgz PackageFileSize: 36.25 KiB