Package: GENIE3 Version: 1.19.0 Command: /Library/Frameworks/R.framework/Resources/bin/R CMD build --keep-empty-dirs --no-resave-data GENIE3 StartedAt: 2022-07-06 21:40:00 -0400 (Wed, 06 Jul 2022) EndedAt: 2022-07-06 21:40:10 -0400 (Wed, 06 Jul 2022) EllapsedTime: 9.6 seconds RetCode: 0 Status: OK PackageFile: GENIE3_1.19.0.tar.gz PackageFileSize: 241.4 KiB