Package: GENIE3 Version: 1.19.0 Command: rm -rf GENIE3.buildbin-libdir && mkdir GENIE3.buildbin-libdir && /Users/biocbuild/BBS/utils/build-universal.sh GENIE3_1.19.0.tar.gz /Library/Frameworks/R.framework/Resources/bin/R GENIE3.buildbin-libdir StartedAt: 2022-07-07 08:03:37 -0400 (Thu, 07 Jul 2022) EndedAt: 2022-07-07 08:03:49 -0400 (Thu, 07 Jul 2022) EllapsedTime: 12.1 seconds RetCode: 1 Status: ERROR PackageFile: None PackageFileSize: NA