Package: GDSArray Version: 1.18.0 Command: chmod a+r GDSArray -R && F:\biocbuild\bbs-3.16-bioc\R\bin\R.exe CMD build --keep-empty-dirs --no-resave-data GDSArray StartedAt: 2023-04-10 18:51:21 -0400 (Mon, 10 Apr 2023) EndedAt: 2023-04-10 18:51:49 -0400 (Mon, 10 Apr 2023) EllapsedTime: 27.9 seconds RetCode: 0 Status: OK PackageFile: GDSArray_1.18.0.tar.gz PackageFileSize: 289.5 KiB