Package: GDCRNATools Version: 1.18.0 Command: chmod a+r GDCRNATools -R && F:\biocbuild\bbs-3.16-bioc\R\bin\R.exe CMD build --keep-empty-dirs --no-resave-data GDCRNATools StartedAt: 2023-04-10 18:51:20 -0400 (Mon, 10 Apr 2023) EndedAt: 2023-04-10 18:52:28 -0400 (Mon, 10 Apr 2023) EllapsedTime: 68.2 seconds RetCode: 0 Status: OK PackageFile: GDCRNATools_1.18.0.tar.gz PackageFileSize: 5.315 MiB