Package: GCSscore Version: 1.12.0 Command: /Library/Frameworks/R.framework/Resources/bin/R CMD build --keep-empty-dirs --no-resave-data GCSscore StartedAt: 2023-04-10 16:37:36 -0400 (Mon, 10 Apr 2023) EndedAt: 2023-04-10 16:41:00 -0400 (Mon, 10 Apr 2023) EllapsedTime: 204.5 seconds RetCode: 0 Status: OK PackageFile: GCSscore_1.12.0.tar.gz PackageFileSize: 4.312 MiB