Package: GCSscore Version: 1.12.0 Command: rm -rf GCSscore.buildbin-libdir && mkdir GCSscore.buildbin-libdir && /Users/biocbuild/BBS/utils/build-universal.sh GCSscore_1.12.0.tar.gz /Library/Frameworks/R.framework/Resources/bin/R GCSscore.buildbin-libdir StartedAt: 2023-04-10 23:44:28 -0400 (Mon, 10 Apr 2023) EndedAt: 2023-04-10 23:44:49 -0400 (Mon, 10 Apr 2023) EllapsedTime: 20.5 seconds RetCode: 0 Status: OK PackageFile: GCSscore_1.12.0.tgz PackageFileSize: 4.629 MiB