Package: GCSscore Version: 1.11.0 Command: rm -rf GCSscore.buildbin-libdir && mkdir GCSscore.buildbin-libdir && /Users/biocbuild/BBS/utils/build-universal.sh GCSscore_1.11.0.tar.gz /Library/Frameworks/R.framework/Resources/bin/R GCSscore.buildbin-libdir StartedAt: 2022-07-07 08:00:42 -0400 (Thu, 07 Jul 2022) EndedAt: 2022-07-07 08:01:06 -0400 (Thu, 07 Jul 2022) EllapsedTime: 24.3 seconds RetCode: 0 Status: OK PackageFile: GCSscore_1.11.0.tgz PackageFileSize: 4.629 MiB