Package: GARS Version: 1.18.0 Command: rm -rf GARS.buildbin-libdir && mkdir GARS.buildbin-libdir && F:\biocbuild\bbs-3.16-bioc\R\bin\R.exe CMD INSTALL --build --library=GARS.buildbin-libdir GARS_1.18.0.tar.gz StartedAt: 2023-04-11 08:01:31 -0400 (Tue, 11 Apr 2023) EndedAt: 2023-04-11 08:02:36 -0400 (Tue, 11 Apr 2023) EllapsedTime: 65.4 seconds RetCode: 0 Status: OK PackageFile: GARS_1.18.0.zip PackageFileSize: 503.8 KiB