Package: GAPGOM Version: 1.14.0 Command: chmod a+r GAPGOM -R && F:\biocbuild\bbs-3.16-bioc\R\bin\R.exe CMD build --keep-empty-dirs --no-resave-data GAPGOM StartedAt: 2023-04-10 18:50:29 -0400 (Mon, 10 Apr 2023) EndedAt: 2023-04-10 18:51:17 -0400 (Mon, 10 Apr 2023) EllapsedTime: 47.6 seconds RetCode: 1 Status: ERROR PackageFile: None PackageFileSize: NA