Package: GAPGOM Version: 1.14.0 Command: /Library/Frameworks/R.framework/Resources/bin/R CMD INSTALL GAPGOM StartedAt: 2023-04-10 15:20:24 -0400 (Mon, 10 Apr 2023) EndedAt: 2023-04-10 15:20:53 -0400 (Mon, 10 Apr 2023) EllapsedTime: 28.7 seconds RetCode: 0 Status: OK