Package: FunChIP Version: 1.24.0 Command: rm -rf FunChIP.buildbin-libdir && mkdir FunChIP.buildbin-libdir && F:\biocbuild\bbs-3.16-bioc\R\bin\R.exe CMD INSTALL --build --library=FunChIP.buildbin-libdir FunChIP_1.24.0.tar.gz StartedAt: 2023-04-11 08:01:13 -0400 (Tue, 11 Apr 2023) EndedAt: 2023-04-11 08:02:00 -0400 (Tue, 11 Apr 2023) EllapsedTime: 46.8 seconds RetCode: 0 Status: OK PackageFile: FunChIP_1.24.0.zip PackageFileSize: 23.94 MiB