Package: FlowSOM Version: 2.6.0 Command: rm -rf FlowSOM.buildbin-libdir && mkdir FlowSOM.buildbin-libdir && F:\biocbuild\bbs-3.16-bioc\R\bin\R.exe CMD INSTALL --build --library=FlowSOM.buildbin-libdir FlowSOM_2.6.0.tar.gz StartedAt: 2023-04-11 08:00:39 -0400 (Tue, 11 Apr 2023) EndedAt: 2023-04-11 08:01:15 -0400 (Tue, 11 Apr 2023) EllapsedTime: 36.7 seconds RetCode: 0 Status: OK PackageFile: FlowSOM_2.6.0.zip PackageFileSize: 6.135 MiB