Package: FitHiC Version: 1.24.0 Command: chmod a+r FitHiC -R && F:\biocbuild\bbs-3.16-bioc\R\bin\R.exe CMD build --keep-empty-dirs --no-resave-data FitHiC StartedAt: 2023-04-10 18:42:34 -0400 (Mon, 10 Apr 2023) EndedAt: 2023-04-10 18:46:51 -0400 (Mon, 10 Apr 2023) EllapsedTime: 257.0 seconds RetCode: 0 Status: OK PackageFile: FitHiC_1.24.0.tar.gz PackageFileSize: 27.04 MiB